BEGIN:VCALENDAR
VERSION:2.0
PRODID:-//Mentone Ukes - ECPv6.15.12.2//NONSGML v1.0//EN
CALSCALE:GREGORIAN
METHOD:PUBLISH
X-ORIGINAL-URL:https://mentoneukes.com
X-WR-CALDESC:Events for Mentone Ukes
REFRESH-INTERVAL;VALUE=DURATION:PT1H
X-Robots-Tag:noindex
X-PUBLISHED-TTL:PT1H
BEGIN:VTIMEZONE
TZID:America/Chicago
BEGIN:DAYLIGHT
TZOFFSETFROM:-0600
TZOFFSETTO:-0500
TZNAME:CDT
DTSTART:20240310T080000
END:DAYLIGHT
BEGIN:STANDARD
TZOFFSETFROM:-0500
TZOFFSETTO:-0600
TZNAME:CST
DTSTART:20241103T070000
END:STANDARD
BEGIN:DAYLIGHT
TZOFFSETFROM:-0600
TZOFFSETTO:-0500
TZNAME:CDT
DTSTART:20250309T080000
END:DAYLIGHT
BEGIN:STANDARD
TZOFFSETFROM:-0500
TZOFFSETTO:-0600
TZNAME:CST
DTSTART:20251102T070000
END:STANDARD
BEGIN:DAYLIGHT
TZOFFSETFROM:-0600
TZOFFSETTO:-0500
TZNAME:CDT
DTSTART:20260308T080000
END:DAYLIGHT
BEGIN:STANDARD
TZOFFSETFROM:-0500
TZOFFSETTO:-0600
TZNAME:CST
DTSTART:20261101T070000
END:STANDARD
END:VTIMEZONE
BEGIN:VEVENT
DTSTART;TZID=America/Chicago:20250809T103000
DTEND;TZID=America/Chicago:20250809T143000
DTSTAMP:20260423T225952
CREATED:20250701T023839Z
LAST-MODIFIED:20250701T031046Z
UID:1797-1754735400-1754749800@mentoneukes.com
SUMMARY:Celebrating the World's Longest Yard Sale
DESCRIPTION:The World’s Longest Yard Sale is August 7-10\, 2025. The library will have a book sale and since Mentone Ukes is the house band of Moon Lake Library\, we will provide entertainment on Saturday August 9 at the library.\nWe will gather around 10:30 and begin playing around 10:45. During breaks\, individuals and/or small groups are invited to perform songs you’d like to share.\nThe librarian has generously offered to provide something for lunch for us!\nWe will play through the afternoon\, until we get tired\, run out of songs\, or it gets to be around 2 or 2:30\, whichever comes first.\nThis is a fun event and I hope you can join us for as much of the day as you can!
URL:https://mentoneukes.com/event/celebrating-the-worlds-longest-yard-sale/
LOCATION:Moon Lake Community Library\, 4607 AL Hwy. 117\, Mentone\, AL\, 35984\, United States
ATTACH;FMTTYPE=image/jpeg:https://mentoneukes.com/wp-content/uploads/2025/06/Event_Practice2_2025-06-19-e1751339430508.jpg
END:VEVENT
END:VCALENDAR