BEGIN:VCALENDAR
VERSION:2.0
PRODID:-//Mentone Ukes - ECPv6.15.12.2//NONSGML v1.0//EN
CALSCALE:GREGORIAN
METHOD:PUBLISH
X-ORIGINAL-URL:https://mentoneukes.com
X-WR-CALDESC:Events for Mentone Ukes
REFRESH-INTERVAL;VALUE=DURATION:PT1H
X-Robots-Tag:noindex
X-PUBLISHED-TTL:PT1H
BEGIN:VTIMEZONE
TZID:America/Chicago
BEGIN:DAYLIGHT
TZOFFSETFROM:-0600
TZOFFSETTO:-0500
TZNAME:CDT
DTSTART:20240310T080000
END:DAYLIGHT
BEGIN:STANDARD
TZOFFSETFROM:-0500
TZOFFSETTO:-0600
TZNAME:CST
DTSTART:20241103T070000
END:STANDARD
BEGIN:DAYLIGHT
TZOFFSETFROM:-0600
TZOFFSETTO:-0500
TZNAME:CDT
DTSTART:20250309T080000
END:DAYLIGHT
BEGIN:STANDARD
TZOFFSETFROM:-0500
TZOFFSETTO:-0600
TZNAME:CST
DTSTART:20251102T070000
END:STANDARD
BEGIN:DAYLIGHT
TZOFFSETFROM:-0600
TZOFFSETTO:-0500
TZNAME:CDT
DTSTART:20260308T080000
END:DAYLIGHT
BEGIN:STANDARD
TZOFFSETFROM:-0500
TZOFFSETTO:-0600
TZNAME:CST
DTSTART:20261101T070000
END:STANDARD
END:VTIMEZONE
BEGIN:VEVENT
DTSTART;TZID=America/Chicago:20250816T130000
DTEND;TZID=America/Chicago:20250816T143000
DTSTAMP:20260423T213715
CREATED:20250815T200500Z
LAST-MODIFIED:20250815T200500Z
UID:1838-1755349200-1755354600@mentoneukes.com
SUMMARY:Practice For Upcoming Performances
DESCRIPTION:We had a great day today celebrating WLYS!\nNext Saturday (August 16) we will have our regular practice at 1pm CDT at the Moon Lake Library. We will be practicing from the summer and fall songbook https://mentoneukes.com/shared-files/1826/….\nWe will practice some of the songs that need some polishing\, focusing on starting together and staying together! We sounded great today and one way we can make our performances more crisp is to start together and listen to each other so we stay together.\nHope you can join us!
URL:https://mentoneukes.com/event/practice-for-upcoming-performances/
LOCATION:Moon Lake Community Library\, 4607 AL Hwy. 117\, Mentone\, AL\, 35984\, United States
ATTACH;FMTTYPE=image/jpeg:https://mentoneukes.com/wp-content/uploads/2025/08/Practice_MU-e1755288267908.jpg
ORGANIZER;CN="Lila Roberts":MAILTO:lilaroberts@icloud.com
END:VEVENT
END:VCALENDAR