BEGIN:VCALENDAR
VERSION:2.0
PRODID:-//Mentone Ukes - ECPv6.15.12.2//NONSGML v1.0//EN
CALSCALE:GREGORIAN
METHOD:PUBLISH
X-WR-CALNAME:Mentone Ukes
X-ORIGINAL-URL:https://mentoneukes.com
X-WR-CALDESC:Events for Mentone Ukes
REFRESH-INTERVAL;VALUE=DURATION:PT1H
X-Robots-Tag:noindex
X-PUBLISHED-TTL:PT1H
BEGIN:VTIMEZONE
TZID:America/Chicago
BEGIN:DAYLIGHT
TZOFFSETFROM:-0600
TZOFFSETTO:-0500
TZNAME:CDT
DTSTART:20240310T080000
END:DAYLIGHT
BEGIN:STANDARD
TZOFFSETFROM:-0500
TZOFFSETTO:-0600
TZNAME:CST
DTSTART:20241103T070000
END:STANDARD
BEGIN:DAYLIGHT
TZOFFSETFROM:-0600
TZOFFSETTO:-0500
TZNAME:CDT
DTSTART:20250309T080000
END:DAYLIGHT
BEGIN:STANDARD
TZOFFSETFROM:-0500
TZOFFSETTO:-0600
TZNAME:CST
DTSTART:20251102T070000
END:STANDARD
BEGIN:DAYLIGHT
TZOFFSETFROM:-0600
TZOFFSETTO:-0500
TZNAME:CDT
DTSTART:20260308T080000
END:DAYLIGHT
BEGIN:STANDARD
TZOFFSETFROM:-0500
TZOFFSETTO:-0600
TZNAME:CST
DTSTART:20261101T070000
END:STANDARD
END:VTIMEZONE
BEGIN:VEVENT
DTSTART;TZID=America/Chicago:20251220T130000
DTEND;TZID=America/Chicago:20251220T150000
DTSTAMP:20260423T153931
CREATED:20251218T145553Z
LAST-MODIFIED:20251218T145553Z
UID:1937-1766235600-1766242800@mentoneukes.com
SUMMARY:It's Jammin Time
DESCRIPTION:The groundhogs are tired from a busy holiday performance schedule. It’s time to relax with some holiday goodies and relaxing time for play along. We always welcome beginners\, novices\, and experienced players at all levels. Please bring some holiday treats. So far we have meat & cheese tray (and bread\, condiments)\, cookies\, Chex party mix\, plates & napkins. Please let Lila or Hank A know what you can bring to share.\nWe know this is a busy time and many of us have other obligations. If you know you won’t be able to make it\, please let Lila or Hank A know so we’ll have an idea of how many people to prepare for.\nNo special line up of songs–we’ll be choosing songs to sing and play together.\nMoon Lake Library at 1pm CST Dec. 20\, 2025
URL:https://mentoneukes.com/event/its-jammin-time/
LOCATION:Moon Lake Community Library\, 4607 AL Hwy. 117\, Mentone\, AL\, 35984\, United States
ATTACH;FMTTYPE=image/jpeg:https://mentoneukes.com/wp-content/uploads/2025/12/MU_2025-12-20-e1766069733645.jpg
ORGANIZER;CN="Lila Roberts":MAILTO:lilaroberts@icloud.com
END:VEVENT
END:VCALENDAR