BEGIN:VCALENDAR
VERSION:2.0
PRODID:-//Mentone Ukes - ECPv6.15.12.2//NONSGML v1.0//EN
CALSCALE:GREGORIAN
METHOD:PUBLISH
X-WR-CALNAME:Mentone Ukes
X-ORIGINAL-URL:https://mentoneukes.com
X-WR-CALDESC:Events for Mentone Ukes
REFRESH-INTERVAL;VALUE=DURATION:PT1H
X-Robots-Tag:noindex
X-PUBLISHED-TTL:PT1H
BEGIN:VTIMEZONE
TZID:America/Chicago
BEGIN:DAYLIGHT
TZOFFSETFROM:-0600
TZOFFSETTO:-0500
TZNAME:CDT
DTSTART:20250309T080000
END:DAYLIGHT
BEGIN:STANDARD
TZOFFSETFROM:-0500
TZOFFSETTO:-0600
TZNAME:CST
DTSTART:20251102T070000
END:STANDARD
BEGIN:DAYLIGHT
TZOFFSETFROM:-0600
TZOFFSETTO:-0500
TZNAME:CDT
DTSTART:20260308T080000
END:DAYLIGHT
BEGIN:STANDARD
TZOFFSETFROM:-0500
TZOFFSETTO:-0600
TZNAME:CST
DTSTART:20261101T070000
END:STANDARD
BEGIN:DAYLIGHT
TZOFFSETFROM:-0600
TZOFFSETTO:-0500
TZNAME:CDT
DTSTART:20270314T080000
END:DAYLIGHT
BEGIN:STANDARD
TZOFFSETFROM:-0500
TZOFFSETTO:-0600
TZNAME:CST
DTSTART:20271107T070000
END:STANDARD
END:VTIMEZONE
BEGIN:VEVENT
DTSTART;TZID=America/Chicago:20260103T130000
DTEND;TZID=America/Chicago:20260103T143000
DTSTAMP:20260423T141059
CREATED:20251229T164846Z
LAST-MODIFIED:20251229T164846Z
UID:1951-1767445200-1767450600@mentoneukes.com
SUMMARY:Grateful for Folk Music
DESCRIPTION:Romey has put together a set of covers and one original of mostly folk music by the Grateful Dead or a group member. Some of these songs go back over a 100 years. Below are links to the song set and videos of lesser known songs. \nSong Set – https://mentoneukes.com/shared-files/1946/?Ukes_2026-01-03.pdf \nDark Hollow – https://youtu.be/6tqRxcbd-Yc?si=Yg6YRpHE7Y1o2Gxc \nI’m Troubled – https://youtu.be/MrCcnlO6nrQ?si=MTC1a_Pj3QNN2ldk \nDrifting Too Far from The Shore – https://youtu.be/lo0b5LRYsxI?si=A9YSUoI5RZi_40d9 \nI’ve Been All Around This World – https://www.youtube.com/watch?v=Egf1-2vt6oo \nThe Race is On – https://youtu.be/a1swkqvISJg?si=T8t401UmpDc5mKai \nMan of Constant Sorrow – https://youtu.be/wJivfdmiIik?si=HrCCrVkE0XqyyCLO
URL:https://mentoneukes.com/event/grateful-for-folk-music/
LOCATION:Moon Lake Community Library\, 4607 AL Hwy. 117\, Mentone\, AL\, 35984\, United States
ATTACH;FMTTYPE=image/jpeg:https://mentoneukes.com/wp-content/uploads/2025/12/GH_GratefulFolk_08a_sm.jpg
ORGANIZER;CN="Hank Allen":MAILTO:hank.d.allen@gmail.com
END:VEVENT
END:VCALENDAR