BEGIN:VCALENDAR
VERSION:2.0
PRODID:-//Mentone Ukes - ECPv6.15.12.2//NONSGML v1.0//EN
CALSCALE:GREGORIAN
METHOD:PUBLISH
X-WR-CALNAME:Mentone Ukes
X-ORIGINAL-URL:https://mentoneukes.com
X-WR-CALDESC:Events for Mentone Ukes
REFRESH-INTERVAL;VALUE=DURATION:PT1H
X-Robots-Tag:noindex
X-PUBLISHED-TTL:PT1H
BEGIN:VTIMEZONE
TZID:America/Chicago
BEGIN:DAYLIGHT
TZOFFSETFROM:-0600
TZOFFSETTO:-0500
TZNAME:CDT
DTSTART:20250309T080000
END:DAYLIGHT
BEGIN:STANDARD
TZOFFSETFROM:-0500
TZOFFSETTO:-0600
TZNAME:CST
DTSTART:20251102T070000
END:STANDARD
BEGIN:DAYLIGHT
TZOFFSETFROM:-0600
TZOFFSETTO:-0500
TZNAME:CDT
DTSTART:20260308T080000
END:DAYLIGHT
BEGIN:STANDARD
TZOFFSETFROM:-0500
TZOFFSETTO:-0600
TZNAME:CST
DTSTART:20261101T070000
END:STANDARD
BEGIN:DAYLIGHT
TZOFFSETFROM:-0600
TZOFFSETTO:-0500
TZNAME:CDT
DTSTART:20270314T080000
END:DAYLIGHT
BEGIN:STANDARD
TZOFFSETFROM:-0500
TZOFFSETTO:-0600
TZNAME:CST
DTSTART:20271107T070000
END:STANDARD
END:VTIMEZONE
BEGIN:VEVENT
DTSTART;TZID=America/Chicago:20260429T104500
DTEND;TZID=America/Chicago:20260429T130000
DTSTAMP:20260423T052032
CREATED:20251008T195429Z
LAST-MODIFIED:20251127T002240Z
UID:1887-1777459500-1777467600@mentoneukes.com
SUMMARY:Mentone Ukes at MERF Senior Luncheon
DESCRIPTION:We will perform at Moon Lake Baptist Church for the MERF Senior Luncheon on April 29\, 2026. Please gather at 10:45 to be ready to start playing at 11:00am. We will play a few songs before giving thanks for our meal. After we eat\, we will play a few more songs as folks finish up and start leaving.\n\nI will need a headcount by April 22.\n\nThis is always a fun event and we sing for our lunch!
URL:https://mentoneukes.com/event/mentone-ukes-at-merf-senior-luncheon/
LOCATION:Moon Lake Baptist Church\, 4571 AL-117\, Mentone\, AL\, 35986\, United States
ATTACH;FMTTYPE=image/jpeg:https://mentoneukes.com/wp-content/uploads/2025/10/zStage_MAN-e1759953041364.jpg
ORGANIZER;CN="Lila Roberts":MAILTO:lilaroberts@icloud.com
END:VEVENT
END:VCALENDAR