BEGIN:VCALENDAR
VERSION:2.0
PRODID:-//Mentone Ukes - ECPv6.15.12.2//NONSGML v1.0//EN
CALSCALE:GREGORIAN
METHOD:PUBLISH
X-WR-CALNAME:Mentone Ukes
X-ORIGINAL-URL:https://mentoneukes.com
X-WR-CALDESC:Events for Mentone Ukes
REFRESH-INTERVAL;VALUE=DURATION:PT1H
X-Robots-Tag:noindex
X-PUBLISHED-TTL:PT1H
BEGIN:VTIMEZONE
TZID:America/Chicago
BEGIN:DAYLIGHT
TZOFFSETFROM:-0600
TZOFFSETTO:-0500
TZNAME:CDT
DTSTART:20250309T080000
END:DAYLIGHT
BEGIN:STANDARD
TZOFFSETFROM:-0500
TZOFFSETTO:-0600
TZNAME:CST
DTSTART:20251102T070000
END:STANDARD
BEGIN:DAYLIGHT
TZOFFSETFROM:-0600
TZOFFSETTO:-0500
TZNAME:CDT
DTSTART:20260308T080000
END:DAYLIGHT
BEGIN:STANDARD
TZOFFSETFROM:-0500
TZOFFSETTO:-0600
TZNAME:CST
DTSTART:20261101T070000
END:STANDARD
BEGIN:DAYLIGHT
TZOFFSETFROM:-0600
TZOFFSETTO:-0500
TZNAME:CDT
DTSTART:20270314T080000
END:DAYLIGHT
BEGIN:STANDARD
TZOFFSETFROM:-0500
TZOFFSETTO:-0600
TZNAME:CST
DTSTART:20271107T070000
END:STANDARD
END:VTIMEZONE
BEGIN:VEVENT
DTSTART;TZID=America/Chicago:20260328T130000
DTEND;TZID=America/Chicago:20260328T143000
DTSTAMP:20260423T143244
CREATED:20260325T185106Z
LAST-MODIFIED:20260325T185106Z
UID:1999-1774702800-1774708200@mentoneukes.com
SUMMARY:Mentone Ukes practice - review recent additions
DESCRIPTION:For this practice session and probably the next one on 4/11\, we will be mostly working on songs added since last December.
URL:https://mentoneukes.com/event/mentone-ukes-practice-review-recent-additions/
LOCATION:Moon Lake Community Library\, 4607 AL Hwy. 117\, Mentone\, AL\, 35984\, United States
ATTACH;FMTTYPE=image/jpeg:https://mentoneukes.com/wp-content/uploads/2026/03/GH_teaching_03-e1774464638793.jpeg
ORGANIZER;CN="Hank Allen":MAILTO:hank.d.allen@gmail.com
END:VEVENT
BEGIN:VEVENT
DTSTART;TZID=America/Chicago:20260411T130000
DTEND;TZID=America/Chicago:20260411T143000
DTSTAMP:20260423T143244
CREATED:20260408T163229Z
LAST-MODIFIED:20260408T163229Z
UID:2005-1775912400-1775917800@mentoneukes.com
SUMMARY:Mentone Ukes Mid-Spring Practice
DESCRIPTION:We will continue to work on some recently added songs and some old favorites getting ready to play for the MERF senior lunch on April 29.
URL:https://mentoneukes.com/event/mentone-ukes-mid-spring-practice/
LOCATION:Moon Lake Community Library\, 4607 AL Hwy. 117\, Mentone\, AL\, 35984\, United States
ATTACH;FMTTYPE=image/jpeg:https://mentoneukes.com/wp-content/uploads/2026/04/GH_SpringDay_01-e1775665930811.jpg
ORGANIZER;CN="Hank Allen":MAILTO:hank.d.allen@gmail.com
END:VEVENT
BEGIN:VEVENT
DTSTART;TZID=America/Chicago:20260418T130000
DTEND;TZID=America/Chicago:20260418T143000
DTSTAMP:20260423T143244
CREATED:20260418T154347Z
LAST-MODIFIED:20260418T154347Z
UID:2008-1776517200-1776522600@mentoneukes.com
SUMMARY:Preparation for MERF Luncheon Performance
DESCRIPTION:On April 18\, we will meet to prepare our song set for our performance for the MERF Luncheon (April 29).\nREMEMBER THIS IS A DATE CHANGE DUE TO UKULELE FESTIVALS THAT ARE SCHEDULED ON DATES WE HAD REGULAR PRACTICE SESSIONS.\nWe will meet at Moon Lake Library at 1pm CDT on April 18. Our sessions are always open to guests and prospective members. Players of any level–beginner (even if you have never picked up a ukulele)\, novice\, experienced–are welcome. We have loaner ukuleles that can be used during the session.\
URL:https://mentoneukes.com/event/preparation-for-merf-luncheon-performance/
LOCATION:Moon Lake Community Library\, 4607 AL Hwy. 117\, Mentone\, AL\, 35984\, United States
ATTACH;FMTTYPE=image/png:https://mentoneukes.com/wp-content/uploads/2026/04/GH_prep.png
ORGANIZER;CN="Lila Roberts":MAILTO:lilaroberts@icloud.com
END:VEVENT
BEGIN:VEVENT
DTSTART;TZID=America/Chicago:20260429T104500
DTEND;TZID=America/Chicago:20260429T130000
DTSTAMP:20260423T143244
CREATED:20251008T195429Z
LAST-MODIFIED:20251127T002240Z
UID:1887-1777459500-1777467600@mentoneukes.com
SUMMARY:Mentone Ukes at MERF Senior Luncheon
DESCRIPTION:We will perform at Moon Lake Baptist Church for the MERF Senior Luncheon on April 29\, 2026. Please gather at 10:45 to be ready to start playing at 11:00am. We will play a few songs before giving thanks for our meal. After we eat\, we will play a few more songs as folks finish up and start leaving.\n\nI will need a headcount by April 22.\n\nThis is always a fun event and we sing for our lunch!
URL:https://mentoneukes.com/event/mentone-ukes-at-merf-senior-luncheon/
LOCATION:Moon Lake Baptist Church\, 4571 AL-117\, Mentone\, AL\, 35986\, United States
ATTACH;FMTTYPE=image/jpeg:https://mentoneukes.com/wp-content/uploads/2025/10/zStage_MAN-e1759953041364.jpg
ORGANIZER;CN="Lila Roberts":MAILTO:lilaroberts@icloud.com
END:VEVENT
END:VCALENDAR