BEGIN:VCALENDAR
VERSION:2.0
PRODID:-//Mentone Ukes - ECPv6.15.12.2//NONSGML v1.0//EN
CALSCALE:GREGORIAN
METHOD:PUBLISH
X-WR-CALNAME:Mentone Ukes
X-ORIGINAL-URL:https://mentoneukes.com
X-WR-CALDESC:Events for Mentone Ukes
REFRESH-INTERVAL;VALUE=DURATION:PT1H
X-Robots-Tag:noindex
X-PUBLISHED-TTL:PT1H
BEGIN:VTIMEZONE
TZID:America/Chicago
BEGIN:DAYLIGHT
TZOFFSETFROM:-0600
TZOFFSETTO:-0500
TZNAME:CDT
DTSTART:20210314T080000
END:DAYLIGHT
BEGIN:STANDARD
TZOFFSETFROM:-0500
TZOFFSETTO:-0600
TZNAME:CST
DTSTART:20211107T070000
END:STANDARD
BEGIN:DAYLIGHT
TZOFFSETFROM:-0600
TZOFFSETTO:-0500
TZNAME:CDT
DTSTART:20220313T080000
END:DAYLIGHT
BEGIN:STANDARD
TZOFFSETFROM:-0500
TZOFFSETTO:-0600
TZNAME:CST
DTSTART:20221106T070000
END:STANDARD
BEGIN:DAYLIGHT
TZOFFSETFROM:-0600
TZOFFSETTO:-0500
TZNAME:CDT
DTSTART:20230312T080000
END:DAYLIGHT
BEGIN:STANDARD
TZOFFSETFROM:-0500
TZOFFSETTO:-0600
TZNAME:CST
DTSTART:20231105T070000
END:STANDARD
END:VTIMEZONE
BEGIN:VEVENT
DTSTART;TZID=America/Chicago:20220910T130000
DTEND;TZID=America/Chicago:20220910T143000
DTSTAMP:20260424T070031
CREATED:20220905T215541Z
LAST-MODIFIED:20220906T214543Z
UID:434-1662814800-1662820200@mentoneukes.com
SUMMARY:Fall Song Set Practice
DESCRIPTION:At our last session we came up with a great song set that will prepare us for any potential opportunities to perform. Practicing to perform at an event allows us to play and sing fun songs while we focus on strumming together as an ensemble group. We will learn to play a variety of songs including Amazing Grace\, Blowing in the Wind\, Folsom Prison Blues\, I’d Like To Teach the World to Sing\, Jambalaya\, Last Kiss\, Sloop John B\, Somewhere Over the Rainbow\, Sweet Caroline\, Sweet Home Chicago\, This Land is Your Land\, and Wonderful World. Most of the songs are easy to play with familiar chords and a few songs introduce some new chords. That’s how you grow! Songs are available for download under the SONGS button at this site or on our Facebook page under the FILES tab.  Newcomers and beginners of all ages are always welcomed to attend our free sessions\, and loaner ukes are available. So plan to join us and bring a friend! Strum and be happy!
URL:https://mentoneukes.com/event/fall-song-set-practice/
LOCATION:Moon Lake Community Library\, 4607 AL Hwy. 117\, Mentone\, AL\, 35984\, United States
END:VEVENT
BEGIN:VEVENT
DTSTART;TZID=America/Chicago:20220827T130000
DTEND;TZID=America/Chicago:20220827T143000
DTSTAMP:20260424T070031
CREATED:20220826T004742Z
LAST-MODIFIED:20220826T015409Z
UID:229-1661605200-1661610600@mentoneukes.com
SUMMARY:Another Mentone Ukes Jam Session!
DESCRIPTION:Our first Jam Session was a smashing success AND we had a few songs that we just couldn’t get to. Join us this Saturday\, August 27th at 1:00 CST to learn a few more songs\, including the iconic ukulele song “Somewhere Over The Rainbow.” This session will be led by our very own fearless leader\, Mickey Luck. As always\, newcomers and beginners of all ages are welcomed to attend and we have loaner ukes available. So plan to come and bring a friend! Strum and be happy!
URL:https://mentoneukes.com/event/another-mentone-ukes-jam-session/
LOCATION:Moon Lake Community Library\, 4607 AL Hwy. 117\, Mentone\, AL\, 35984\, United States
ORGANIZER;CN="Debra Fey":MAILTO:debrajfey@gmail.com
END:VEVENT
END:VCALENDAR