BEGIN:VCALENDAR
VERSION:2.0
PRODID:-//Mentone Ukes - ECPv6.15.12.2//NONSGML v1.0//EN
CALSCALE:GREGORIAN
METHOD:PUBLISH
X-ORIGINAL-URL:https://mentoneukes.com
X-WR-CALDESC:Events for Mentone Ukes
REFRESH-INTERVAL;VALUE=DURATION:PT1H
X-Robots-Tag:noindex
X-PUBLISHED-TTL:PT1H
BEGIN:VTIMEZONE
TZID:America/Chicago
BEGIN:DAYLIGHT
TZOFFSETFROM:-0600
TZOFFSETTO:-0500
TZNAME:CDT
DTSTART:20220313T080000
END:DAYLIGHT
BEGIN:STANDARD
TZOFFSETFROM:-0500
TZOFFSETTO:-0600
TZNAME:CST
DTSTART:20221106T070000
END:STANDARD
BEGIN:DAYLIGHT
TZOFFSETFROM:-0600
TZOFFSETTO:-0500
TZNAME:CDT
DTSTART:20230312T080000
END:DAYLIGHT
BEGIN:STANDARD
TZOFFSETFROM:-0500
TZOFFSETTO:-0600
TZNAME:CST
DTSTART:20231105T070000
END:STANDARD
BEGIN:DAYLIGHT
TZOFFSETFROM:-0600
TZOFFSETTO:-0500
TZNAME:CDT
DTSTART:20240310T080000
END:DAYLIGHT
BEGIN:STANDARD
TZOFFSETFROM:-0500
TZOFFSETTO:-0600
TZNAME:CST
DTSTART:20241103T070000
END:STANDARD
END:VTIMEZONE
BEGIN:VEVENT
DTSTART;TZID=America/Chicago:20230304T130000
DTEND;TZID=America/Chicago:20230304T143000
DTSTAMP:20260425T124210
CREATED:20230227T194446Z
LAST-MODIFIED:20230227T194446Z
UID:714-1677934800-1677940200@mentoneukes.com
SUMMARY:LET THE FUN BEGIN!
DESCRIPTION:LET THE FUN BEGIN! Starting at our session this Saturday we will begin to finalize our Spring performance song set. This set will include some familiar songs we’ve played before but also (because we’re that good!) some new songs will be incorporated into the set. We have plenty of time to practice and the new songs will keep those practices fun and engaging. As always\, we’re playing from a variety of genres. Just a few of the new songs we’ll be considering are Friday I’m in Love (The Cure); Cecilia (Simon & Garfunkel)\, Wildflowers (Tom Petty)\, and Your Cheatin’ Heart (Hank Williams). We’ve worked out a great song set that will challenge us and be entertaining at our performances. New songs will be downloaded over the next couple days so you can begin to familiarize yourself with them.  As always newcomers and beginners of all ages are welcomed to attend our FREE sessions\, and loaner ukes are available. So plan to join us this Saturday\, March 4th at 1:00 PM CST and bring a friend. Strum and be happy!
URL:https://mentoneukes.com/event/let-the-fun-begin/
LOCATION:Moon Lake Community Library\, 4607 AL Hwy. 117\, Mentone\, AL\, 35984\, United States
ATTACH;FMTTYPE=image/jpeg:https://mentoneukes.com/wp-content/uploads/2023/02/F81D1BA4-1CD7-4B4A-A999-8CA58A982C08-scaled.jpeg
END:VEVENT
BEGIN:VEVENT
DTSTART;TZID=America/Chicago:20230318T130000
DTEND;TZID=America/Chicago:20230318T150000
DTSTAMP:20260425T124210
CREATED:20230314T222034Z
LAST-MODIFIED:20230314T222034Z
UID:729-1679144400-1679151600@mentoneukes.com
SUMMARY:Springing Forward towards our Spring Performance
DESCRIPTION:Our Spring Performance song set is just about there! We have a few more songs to try out — some new tunes and a few we’ve played before — and then we will be ready to begin practicing for our performances in earnest.  \nThe song set for our session this Saturday includes: \n-Blue Eyes Crying in the Rain by Fred Rose and popularized by Willie Nelson \n– Happy Together by The Turtles \n– In the Jailhouse Now by Jimmie Rodgers \n– Ripple by The Grateful Dead \n-Sweet Caroline by Neil Diamond \n-Stand by Me by Ben King \n– Walls by Tom Petty \n– Where Have All The Flowers Gone by Pete Seeger \n– Wildflowers by Tom Petty \nAnd the best news of all: it’s never too late for newcomers and beginners to join in the fun! The ukulele is easy to learn\, fun to play\, and it might just bring a little bit of joy into your life—or maybe a lot—and who doesn’t want that! Loaner ukes are available.
URL:https://mentoneukes.com/event/springing-forward-towards-our-spring-performance/
LOCATION:Moon Lake Community Library\, 4607 AL Hwy. 117\, Mentone\, AL\, 35984\, United States
ATTACH;FMTTYPE=image/jpeg:https://mentoneukes.com/wp-content/uploads/2023/02/F81D1BA4-1CD7-4B4A-A999-8CA58A982C08-scaled.jpeg
END:VEVENT
END:VCALENDAR