BEGIN:VCALENDAR
VERSION:2.0
PRODID:-//Mentone Ukes - ECPv6.15.12.2//NONSGML v1.0//EN
CALSCALE:GREGORIAN
METHOD:PUBLISH
X-WR-CALNAME:Mentone Ukes
X-ORIGINAL-URL:https://mentoneukes.com
X-WR-CALDESC:Events for Mentone Ukes
REFRESH-INTERVAL;VALUE=DURATION:PT1H
X-Robots-Tag:noindex
X-PUBLISHED-TTL:PT1H
BEGIN:VTIMEZONE
TZID:America/Chicago
BEGIN:DAYLIGHT
TZOFFSETFROM:-0600
TZOFFSETTO:-0500
TZNAME:CDT
DTSTART:20220313T080000
END:DAYLIGHT
BEGIN:STANDARD
TZOFFSETFROM:-0500
TZOFFSETTO:-0600
TZNAME:CST
DTSTART:20221106T070000
END:STANDARD
BEGIN:DAYLIGHT
TZOFFSETFROM:-0600
TZOFFSETTO:-0500
TZNAME:CDT
DTSTART:20230312T080000
END:DAYLIGHT
BEGIN:STANDARD
TZOFFSETFROM:-0500
TZOFFSETTO:-0600
TZNAME:CST
DTSTART:20231105T070000
END:STANDARD
BEGIN:DAYLIGHT
TZOFFSETFROM:-0600
TZOFFSETTO:-0500
TZNAME:CDT
DTSTART:20240310T080000
END:DAYLIGHT
BEGIN:STANDARD
TZOFFSETFROM:-0500
TZOFFSETTO:-0600
TZNAME:CST
DTSTART:20241103T070000
END:STANDARD
END:VTIMEZONE
BEGIN:VEVENT
DTSTART;TZID=America/Chicago:20230422T103000
DTEND;TZID=America/Chicago:20230422T113000
DTSTAMP:20260425T111848
CREATED:20230220T153827Z
LAST-MODIFIED:20230220T153827Z
UID:709-1682159400-1682163000@mentoneukes.com
SUMMARY:Mentone Ukes KIDS! - Free Beginners Class for Ages 6-12
DESCRIPTION:WHAT WE WILL COVER: How to hold the ukulele and how to tune it; identifying parts of the ukulele; how to strum and basic strumming patterns; how to play a few chords and play a simple song. \nWHAT’S SO GREAT ABOUT THE UKULELE? It is an easy instrument to learn; the nylon strings are easy on the fingers; it’s small\, lightweight and easy to carry; it’s affordable; it’s fun to play! \nMUSIC LESSONS ARE BENEFICIAL! Learning to play a musical instrument helps improve cognitive functions like: focus and memory; reading skills; eye-hand coordination; and concentration. \nPREREGISTRATION REQUIRED! Class size is limited so please contact us at mentoneukes@gmail.com for more information.
URL:https://mentoneukes.com/event/mentone-ukes-kids-free-beginners-class-for-ages-6-12/
LOCATION:Moon Lake Community Library\, 4607 AL Hwy. 117\, Mentone\, AL\, 35984\, United States
ATTACH;FMTTYPE=image/jpeg:https://mentoneukes.com/wp-content/uploads/2023/02/1612A75F-08E4-4F56-A9BE-6F707F3A4C2C.jpeg
END:VEVENT
END:VCALENDAR