BEGIN:VCALENDAR
VERSION:2.0
PRODID:-//Mentone Ukes - ECPv6.15.12.2//NONSGML v1.0//EN
CALSCALE:GREGORIAN
METHOD:PUBLISH
X-WR-CALNAME:Mentone Ukes
X-ORIGINAL-URL:https://mentoneukes.com
X-WR-CALDESC:Events for Mentone Ukes
REFRESH-INTERVAL;VALUE=DURATION:PT1H
X-Robots-Tag:noindex
X-PUBLISHED-TTL:PT1H
BEGIN:VTIMEZONE
TZID:America/Chicago
BEGIN:DAYLIGHT
TZOFFSETFROM:-0600
TZOFFSETTO:-0500
TZNAME:CDT
DTSTART:20240310T080000
END:DAYLIGHT
BEGIN:STANDARD
TZOFFSETFROM:-0500
TZOFFSETTO:-0600
TZNAME:CST
DTSTART:20241103T070000
END:STANDARD
BEGIN:DAYLIGHT
TZOFFSETFROM:-0600
TZOFFSETTO:-0500
TZNAME:CDT
DTSTART:20250309T080000
END:DAYLIGHT
BEGIN:STANDARD
TZOFFSETFROM:-0500
TZOFFSETTO:-0600
TZNAME:CST
DTSTART:20251102T070000
END:STANDARD
BEGIN:DAYLIGHT
TZOFFSETFROM:-0600
TZOFFSETTO:-0500
TZNAME:CDT
DTSTART:20260308T080000
END:DAYLIGHT
BEGIN:STANDARD
TZOFFSETFROM:-0500
TZOFFSETTO:-0600
TZNAME:CST
DTSTART:20261101T070000
END:STANDARD
END:VTIMEZONE
BEGIN:VEVENT
DTSTART;TZID=America/Chicago:20250711T183000
DTEND;TZID=America/Chicago:20250711T203000
DTSTAMP:20260423T213651
CREATED:20250702T030704Z
LAST-MODIFIED:20250702T030913Z
UID:1802-1752258600-1752265800@mentoneukes.com
SUMMARY:Showtime in the Valley Talent Show
DESCRIPTION:Our own Halee Odell will be performing at the Showtime in the Valley Talent Show. It will be held at the SonShine Retreat (formerly Nena’s) on July 11. Time is 6:30-8:30pm. Halee is going to do Mentone Ukes proud! Come on out and support Halee. We know how talented she is and now she’s going to show it off to the world!
URL:https://mentoneukes.com/event/showtime-in-the-valley-talent-show/
LOCATION:SonRise Retreat\, 8272 AL-117\, Valley Head\, AL\, 35989\, United States
ATTACH;FMTTYPE=image/jpeg:https://mentoneukes.com/wp-content/uploads/2025/07/Event_Talent_show-e1751425597625.jpg
END:VEVENT
BEGIN:VEVENT
DTSTART;TZID=America/Chicago:20250719T130000
DTEND;TZID=America/Chicago:20250719T143000
DTSTAMP:20260423T213651
CREATED:20250701T023459Z
LAST-MODIFIED:20250701T024202Z
UID:1794-1752930000-1752935400@mentoneukes.com
SUMMARY:Practice at the Library
DESCRIPTION:We’ll be playing and singing through songs for our upcoming performances! Practice time is 1pm Central time and location is the Moon Lake Library. We hope to see you there.\nPlayers of all levels are welcome! We have loaner ukuleles and if you are a beginner we can help you get started with this wonderful\, fun instrument. We would love to see you!
URL:https://mentoneukes.com/event/practice-at-the-library/
LOCATION:Moon Lake Community Library\, 4607 AL Hwy. 117\, Mentone\, AL\, 35984\, United States
ATTACH;FMTTYPE=image/jpeg:https://mentoneukes.com/wp-content/uploads/2025/06/Event_Practice1_2025-06-19-e1751337710743.jpg
END:VEVENT
END:VCALENDAR