BEGIN:VCALENDAR
VERSION:2.0
PRODID:-//Mentone Ukes - ECPv6.15.12.2//NONSGML v1.0//EN
CALSCALE:GREGORIAN
METHOD:PUBLISH
X-WR-CALNAME:Mentone Ukes
X-ORIGINAL-URL:https://mentoneukes.com
X-WR-CALDESC:Events for Mentone Ukes
REFRESH-INTERVAL;VALUE=DURATION:PT1H
X-Robots-Tag:noindex
X-PUBLISHED-TTL:PT1H
BEGIN:VTIMEZONE
TZID:America/Chicago
BEGIN:DAYLIGHT
TZOFFSETFROM:-0600
TZOFFSETTO:-0500
TZNAME:CDT
DTSTART:20240310T080000
END:DAYLIGHT
BEGIN:STANDARD
TZOFFSETFROM:-0500
TZOFFSETTO:-0600
TZNAME:CST
DTSTART:20241103T070000
END:STANDARD
BEGIN:DAYLIGHT
TZOFFSETFROM:-0600
TZOFFSETTO:-0500
TZNAME:CDT
DTSTART:20250309T080000
END:DAYLIGHT
BEGIN:STANDARD
TZOFFSETFROM:-0500
TZOFFSETTO:-0600
TZNAME:CST
DTSTART:20251102T070000
END:STANDARD
BEGIN:DAYLIGHT
TZOFFSETFROM:-0600
TZOFFSETTO:-0500
TZNAME:CDT
DTSTART:20260308T080000
END:DAYLIGHT
BEGIN:STANDARD
TZOFFSETFROM:-0500
TZOFFSETTO:-0600
TZNAME:CST
DTSTART:20261101T070000
END:STANDARD
END:VTIMEZONE
BEGIN:VEVENT
DTSTART;TZID=America/Chicago:20250913T130000
DTEND;TZID=America/Chicago:20250913T143000
DTSTAMP:20260423T184553
CREATED:20250908T191504Z
LAST-MODIFIED:20250908T191504Z
UID:1867-1757768400-1757773800@mentoneukes.com
SUMMARY:Practice Session
DESCRIPTION:On Saturday\, September 13 at 1pm CDT we will meet at Moon Lake Library for our regular practice session. We will be preparing for our upcoming performance at Mentone Americana Nights. The list of songs we will work on is forthcoming. Looking forward to seeing you there!
URL:https://mentoneukes.com/event/practice-session/
LOCATION:Moon Lake Community Library\, 4607 AL Hwy. 117\, Mentone\, AL\, 35984\, United States
ATTACH;FMTTYPE=image/jpeg:https://mentoneukes.com/wp-content/uploads/2025/09/MU_wall_library-e1757358865416.jpg
ORGANIZER;CN="Lila Roberts":MAILTO:lilaroberts@icloud.com
END:VEVENT
BEGIN:VEVENT
DTSTART;TZID=America/Chicago:20250927T150000
DTEND;TZID=America/Chicago:20250927T154500
DTSTAMP:20260423T184553
CREATED:20250815T201214Z
LAST-MODIFIED:20250815T201338Z
UID:1841-1758985200-1758987900@mentoneukes.com
SUMMARY:Mentone Ukes at Mentone Americana Nights
DESCRIPTION:Mentone Ukes will play in the Mentone Ukes Americana Nights series at 3pm at the Shigley Amphitheater on the Moon Lake Campus. Bring chairs and music! It is a 45 minute performance.\nWe will practice for our performance at our regular practice at 1pm and then transition over to the stage for set up.
URL:https://mentoneukes.com/event/mentone-ukes-at-mentone-americana-nights/
LOCATION:Shigley Amphitheater\, 5866 E River Rd\, Mentone\, AL\, 35984\, United States
ATTACH;FMTTYPE=image/jpeg:https://mentoneukes.com/wp-content/uploads/2025/08/MU_Americana-e1755288804345.jpg
END:VEVENT
END:VCALENDAR