BEGIN:VCALENDAR
VERSION:2.0
PRODID:-//Mentone Ukes - ECPv6.15.12.2//NONSGML v1.0//EN
CALSCALE:GREGORIAN
METHOD:PUBLISH
X-WR-CALNAME:Mentone Ukes
X-ORIGINAL-URL:https://mentoneukes.com
X-WR-CALDESC:Events for Mentone Ukes
REFRESH-INTERVAL;VALUE=DURATION:PT1H
X-Robots-Tag:noindex
X-PUBLISHED-TTL:PT1H
BEGIN:VTIMEZONE
TZID:America/Chicago
BEGIN:DAYLIGHT
TZOFFSETFROM:-0600
TZOFFSETTO:-0500
TZNAME:CDT
DTSTART:20240310T080000
END:DAYLIGHT
BEGIN:STANDARD
TZOFFSETFROM:-0500
TZOFFSETTO:-0600
TZNAME:CST
DTSTART:20241103T070000
END:STANDARD
BEGIN:DAYLIGHT
TZOFFSETFROM:-0600
TZOFFSETTO:-0500
TZNAME:CDT
DTSTART:20250309T080000
END:DAYLIGHT
BEGIN:STANDARD
TZOFFSETFROM:-0500
TZOFFSETTO:-0600
TZNAME:CST
DTSTART:20251102T070000
END:STANDARD
BEGIN:DAYLIGHT
TZOFFSETFROM:-0600
TZOFFSETTO:-0500
TZNAME:CDT
DTSTART:20260308T080000
END:DAYLIGHT
BEGIN:STANDARD
TZOFFSETFROM:-0500
TZOFFSETTO:-0600
TZNAME:CST
DTSTART:20261101T070000
END:STANDARD
END:VTIMEZONE
BEGIN:VEVENT
DTSTART;TZID=America/Chicago:20251011T134500
DTEND;TZID=America/Chicago:20251011T150000
DTSTAMP:20260423T172135
CREATED:20251008T193910Z
LAST-MODIFIED:20251008T193910Z
UID:1876-1760190300-1760194800@mentoneukes.com
SUMMARY:Harvest Ukes in Rainsville
DESCRIPTION:We will play for the Rainsville Harvest for a Cause on Saturday\, October 11. We need to be set up no later than 12:45pm. Our plans are to play 2 45-minute sets consisting of songs from our current song list. Hank will be sending out the songbook.\nLocation: Rainsville ParkBroadway St SE\, Rainsville\, AL 35986https://maps.app.goo.gl/EJNUYnwvGKUenqoY9\nOur set up will be near the monuments\, close to the parking area.\nBring your uke\, music\, and a chair for this great event. At this time the weather forecast calls for a beautiful fall day. Come on out and play with us.
URL:https://mentoneukes.com/event/harvest-ukes-in-rainsville/
LOCATION:Rainsville City Park\, Broadway St SE\, Rainsville\, AL\, 35986\, United States
ATTACH;FMTTYPE=image/jpeg:https://mentoneukes.com/wp-content/uploads/2025/10/zHarvest-e1759952329454.jpg
ORGANIZER;CN="Lila Roberts":MAILTO:lilaroberts@icloud.com
END:VEVENT
BEGIN:VEVENT
DTSTART;TZID=America/Chicago:20251018T104500
DTEND;TZID=America/Chicago:20251018T140000
DTSTAMP:20260423T172135
CREATED:20251008T194401Z
LAST-MODIFIED:20251008T194401Z
UID:1880-1760784300-1760796000@mentoneukes.com
SUMMARY:Mentone Fall Festival at Moon Lake Library
DESCRIPTION:This year we will be playing at the Moon Lake Library during the Mentone Fall Festival on October 18 from 11am-2pm. We will play from the current song set. Be sure to bring your music because we will not have projection available.
URL:https://mentoneukes.com/event/mentone-fall-festival-at-moon-lake-library/
LOCATION:Moon Lake Community Library\, 4607 AL Hwy. 117\, Mentone\, AL\, 35984\, United States
ATTACH;FMTTYPE=image/jpeg:https://mentoneukes.com/wp-content/uploads/2025/10/zFallFest-e1759952613835.jpg
ORGANIZER;CN="Lila Roberts":MAILTO:lilaroberts@icloud.com
END:VEVENT
END:VCALENDAR