BEGIN:VCALENDAR
VERSION:2.0
PRODID:-//Mentone Ukes - ECPv6.15.12.2//NONSGML v1.0//EN
CALSCALE:GREGORIAN
METHOD:PUBLISH
X-ORIGINAL-URL:https://mentoneukes.com
X-WR-CALDESC:Events for Mentone Ukes
REFRESH-INTERVAL;VALUE=DURATION:PT1H
X-Robots-Tag:noindex
X-PUBLISHED-TTL:PT1H
BEGIN:VTIMEZONE
TZID:America/Chicago
BEGIN:DAYLIGHT
TZOFFSETFROM:-0600
TZOFFSETTO:-0500
TZNAME:CDT
DTSTART:20240310T080000
END:DAYLIGHT
BEGIN:STANDARD
TZOFFSETFROM:-0500
TZOFFSETTO:-0600
TZNAME:CST
DTSTART:20241103T070000
END:STANDARD
BEGIN:DAYLIGHT
TZOFFSETFROM:-0600
TZOFFSETTO:-0500
TZNAME:CDT
DTSTART:20250309T080000
END:DAYLIGHT
BEGIN:STANDARD
TZOFFSETFROM:-0500
TZOFFSETTO:-0600
TZNAME:CST
DTSTART:20251102T070000
END:STANDARD
BEGIN:DAYLIGHT
TZOFFSETFROM:-0600
TZOFFSETTO:-0500
TZNAME:CDT
DTSTART:20260308T080000
END:DAYLIGHT
BEGIN:STANDARD
TZOFFSETFROM:-0500
TZOFFSETTO:-0600
TZNAME:CST
DTSTART:20261101T070000
END:STANDARD
END:VTIMEZONE
BEGIN:VEVENT
DTSTART;TZID=America/Chicago:20251105T104500
DTEND;TZID=America/Chicago:20251105T130000
DTSTAMP:20260423T154615
CREATED:20251008T195108Z
LAST-MODIFIED:20251008T195108Z
UID:1883-1762339500-1762347600@mentoneukes.com
SUMMARY:Mentone Ukes at MERF Luncheon
DESCRIPTION:We will perform at Moon Lake Baptist Church for the MERF Senior Luncheon on November 5. Please gather at 10:45 to be ready to start playing at 11:00am. We will play a few songs before giving thanks for our meal. After we eat\, we will play a few more songs as folks finish up and start leaving.\n\nI will need a headcount by October 29.\n\nThis is always a fun event and we sing for our lunch!
URL:https://mentoneukes.com/event/mentone-ukes-at-merf-luncheon/
LOCATION:Moon Lake Baptist Church\, 4571 AL-117\, Mentone\, AL\, 35986\, United States
ATTACH;FMTTYPE=image/jpeg:https://mentoneukes.com/wp-content/uploads/2025/10/zStage_MAN-e1759953041364.jpg
ORGANIZER;CN="Lila Roberts":MAILTO:lilaroberts@icloud.com
END:VEVENT
BEGIN:VEVENT
DTSTART;TZID=America/Chicago:20251108T130000
DTEND;TZID=America/Chicago:20251108T143000
DTSTAMP:20260423T154615
CREATED:20251104T162441Z
LAST-MODIFIED:20251104T162441Z
UID:1900-1762606800-1762612200@mentoneukes.com
SUMMARY:Getting Ready for the Holidays!
DESCRIPTION:We have several holiday performances coming up in December so we will be playing through some old and new holiday music. We will meet at 1pm at Moon Lake Library. Our music list will be distributed ahead of our practice.
URL:https://mentoneukes.com/event/getting-ready-for-the-holidays/
LOCATION:Moon Lake Community Library\, 4607 AL Hwy. 117\, Mentone\, AL\, 35984\, United States
ATTACH;FMTTYPE=image/jpeg:https://mentoneukes.com/wp-content/uploads/2025/11/MU_11-08-e1762273410202.jpg
END:VEVENT
BEGIN:VEVENT
DTSTART;TZID=America/Chicago:20251122T130000
DTEND;TZID=America/Chicago:20251122T143000
DTSTAMP:20260423T154615
CREATED:20251104T162856Z
LAST-MODIFIED:20251104T162856Z
UID:1903-1763816400-1763821800@mentoneukes.com
SUMMARY:Getting Ready for Holiday Performances
DESCRIPTION:Let’s meet for practice on holiday songs! 1pm Moon Lake Library. Song list will be distributed in advance.
URL:https://mentoneukes.com/event/getting-ready-for-holiday-performances/
LOCATION:Moon Lake Community Library\, 4607 AL Hwy. 117\, Mentone\, AL\, 35984\, United States
ATTACH;FMTTYPE=image/jpeg:https://mentoneukes.com/wp-content/uploads/2025/11/MU_11-08-e1762273410202.jpg
ORGANIZER;CN="Lila Roberts":MAILTO:lilaroberts@icloud.com
END:VEVENT
END:VCALENDAR