BEGIN:VCALENDAR
VERSION:2.0
PRODID:-//Mentone Ukes - ECPv6.15.12.2//NONSGML v1.0//EN
CALSCALE:GREGORIAN
METHOD:PUBLISH
X-WR-CALNAME:Mentone Ukes
X-ORIGINAL-URL:https://mentoneukes.com
X-WR-CALDESC:Events for Mentone Ukes
REFRESH-INTERVAL;VALUE=DURATION:PT1H
X-Robots-Tag:noindex
X-PUBLISHED-TTL:PT1H
BEGIN:VTIMEZONE
TZID:America/Chicago
BEGIN:DAYLIGHT
TZOFFSETFROM:-0600
TZOFFSETTO:-0500
TZNAME:CDT
DTSTART:20240310T080000
END:DAYLIGHT
BEGIN:STANDARD
TZOFFSETFROM:-0500
TZOFFSETTO:-0600
TZNAME:CST
DTSTART:20241103T070000
END:STANDARD
BEGIN:DAYLIGHT
TZOFFSETFROM:-0600
TZOFFSETTO:-0500
TZNAME:CDT
DTSTART:20250309T080000
END:DAYLIGHT
BEGIN:STANDARD
TZOFFSETFROM:-0500
TZOFFSETTO:-0600
TZNAME:CST
DTSTART:20251102T070000
END:STANDARD
BEGIN:DAYLIGHT
TZOFFSETFROM:-0600
TZOFFSETTO:-0500
TZNAME:CDT
DTSTART:20260308T080000
END:DAYLIGHT
BEGIN:STANDARD
TZOFFSETFROM:-0500
TZOFFSETTO:-0600
TZNAME:CST
DTSTART:20261101T070000
END:STANDARD
END:VTIMEZONE
BEGIN:VEVENT
DTSTART;TZID=America/Chicago:20251211T170000
DTEND;TZID=America/Chicago:20251211T183000
DTSTAMP:20260423T140632
CREATED:20250711T140523Z
LAST-MODIFIED:20250711T140819Z
UID:1809-1765472400-1765477800@mentoneukes.com
SUMMARY:Mentone Ukes' Holly Jolly Jam
DESCRIPTION:We will provide Christmas music for the December meeting of the DeKalb County (AL) Chapter of Daughters of the American Revolution. We will gather at St. Philip’s Episcopal Church to get set up at 5:00pm. We will play either in the meeting hall or the church sanctuary\, depending on how many ukulele carolers we have. That decision may not be made until the day of our performance.\nPlease arrive at 5:00 pm so we can get set up to start our program promptly at 5:30 pm. We will plan for a 25 minute program.\nThe DAR will have their business meeting immediately after our program and their holiday pot luck supper will be after the business meeting. We are invited to stay for the dinner\, but would need to stay for the business meeting. I will get numbers for eating dinner as the date gets closer.\nMark the date on your calendar now. This is a Thursday evening so I hope we will be able to have a nice-sized group.
URL:https://mentoneukes.com/event/mentone-ukes-holly-jolly-jam/
LOCATION:St. Philip’s Episcopal Church\, 2813 Godfrey Ave NE\, Fort Payne\,\, AL\, 35967
ATTACH;FMTTYPE=image/jpeg:https://mentoneukes.com/wp-content/uploads/2025/07/GH_Christmas_DAR_02-e1752242693942.jpeg
ORGANIZER;CN="Lila Roberts":MAILTO:lilaroberts@icloud.com
END:VEVENT
BEGIN:VEVENT
DTSTART;TZID=America/Chicago:20251213T130000
DTEND;TZID=America/Chicago:20251213T140000
DTSTAMP:20260423T140632
CREATED:20251127T013439Z
LAST-MODIFIED:20251127T013439Z
UID:1921-1765630800-1765634400@mentoneukes.com
SUMMARY:Canyon Christmas
DESCRIPTION:Be there no later than 12:45 and we will play from 1:00 until 2:00.\nFrom Little River Canyon Center:“ Snap a picture with Santa and take home a free 4×6 print as a keepsake! Families of all kinds are welcome—including your furry friends (on a leash). Stroll the Storybook Trail\,  make holiday crafts\,  enjoy tasty treats\, and discover more surprises throughout the day”
URL:https://mentoneukes.com/event/canyon-christmas-2/
LOCATION:Little River Canyon Center\, 607 5th St NE\, Fort Payne\, AL\, 35967\, United States
ATTACH;FMTTYPE=image/jpeg:https://mentoneukes.com/wp-content/uploads/2025/11/GH_CanyonChristmas_02-e1764207258448.jpeg
ORGANIZER;CN="Hank Allen":MAILTO:hank.d.allen@gmail.com
END:VEVENT
BEGIN:VEVENT
DTSTART;TZID=America/Chicago:20251213T163000
DTEND;TZID=America/Chicago:20251213T183000
DTSTAMP:20260423T140632
CREATED:20251209T164826Z
LAST-MODIFIED:20251209T164826Z
UID:1934-1765643400-1765650600@mentoneukes.com
SUMMARY:Mentone Christmas Tree Lighting
DESCRIPTION:The Mentone Ukes will be playing with along with the Moon Lake Ensemble and the Mentone Springs Youth Choir. And inside the Mentone Inn\, Santa will welcome families with hot chocolate and cookies. Please be there no later than 4:45 pm central
URL:https://mentoneukes.com/event/mentone-christmas-tree-lighting-2/
LOCATION:Mentone Inn Linger Longer Pavilion
ATTACH;FMTTYPE=image/jpeg:https://mentoneukes.com/wp-content/uploads/2025/12/GH_TreeLighting_02-e1765298887731.jpg
END:VEVENT
BEGIN:VEVENT
DTSTART;TZID=America/Chicago:20251220T130000
DTEND;TZID=America/Chicago:20251220T150000
DTSTAMP:20260423T140632
CREATED:20251218T145553Z
LAST-MODIFIED:20251218T145553Z
UID:1937-1766235600-1766242800@mentoneukes.com
SUMMARY:It's Jammin Time
DESCRIPTION:The groundhogs are tired from a busy holiday performance schedule. It’s time to relax with some holiday goodies and relaxing time for play along. We always welcome beginners\, novices\, and experienced players at all levels. Please bring some holiday treats. So far we have meat & cheese tray (and bread\, condiments)\, cookies\, Chex party mix\, plates & napkins. Please let Lila or Hank A know what you can bring to share.\nWe know this is a busy time and many of us have other obligations. If you know you won’t be able to make it\, please let Lila or Hank A know so we’ll have an idea of how many people to prepare for.\nNo special line up of songs–we’ll be choosing songs to sing and play together.\nMoon Lake Library at 1pm CST Dec. 20\, 2025
URL:https://mentoneukes.com/event/its-jammin-time/
LOCATION:Moon Lake Community Library\, 4607 AL Hwy. 117\, Mentone\, AL\, 35984\, United States
ATTACH;FMTTYPE=image/jpeg:https://mentoneukes.com/wp-content/uploads/2025/12/MU_2025-12-20-e1766069733645.jpg
ORGANIZER;CN="Lila Roberts":MAILTO:lilaroberts@icloud.com
END:VEVENT
END:VCALENDAR